BEGIN:VCALENDAR
VERSION:2.0
PRODID:-//Liebe leben
CALSCALE:GREGORIAN
METHOD:PUBLISH
X-WR-CALNAME:Liebe leben
X-ORIGINAL-URL:https://www.liebeleben.de/seminar/seminarleiter-ausbildung-2022-modul-2/
X-WR-CALDESC:Seminarleiter-Ausbildung 2022 Modul 2
BEGIN:VEVENT
DTSTART:20230222T190000
DTEND:20230226T150000
SUMMARY:Seminarleiter-Ausbildung 2022 Modul 2
DESCRIPTION:
LOCATION:Seminarhaus Stiersbach, Stiersbach 1, 74420 Oberrot
END:VEVENT
END:VCALENDAR
